BEGIN:VCALENDAR
VERSION:2.0
PRODID:-//Huerfano County Government - ECPv6.13.1//NONSGML v1.0//EN
CALSCALE:GREGORIAN
METHOD:PUBLISH
X-ORIGINAL-URL:https://huerfano.us
X-WR-CALDESC:Events for Huerfano County Government
REFRESH-INTERVAL;VALUE=DURATION:PT1H
X-Robots-Tag:noindex
X-PUBLISHED-TTL:PT1H
BEGIN:VTIMEZONE
TZID:America/Denver
BEGIN:DAYLIGHT
TZOFFSETFROM:-0700
TZOFFSETTO:-0600
TZNAME:MDT
DTSTART:20260308T090000
END:DAYLIGHT
BEGIN:STANDARD
TZOFFSETFROM:-0600
TZOFFSETTO:-0700
TZNAME:MST
DTSTART:20261101T080000
END:STANDARD
END:VTIMEZONE
BEGIN:VEVENT
DTSTART;TZID=America/Denver:20260422T090000
DTEND;TZID=America/Denver:20260422T103000
DTSTAMP:20260419T202213
CREATED:20260417T190049Z
LAST-MODIFIED:20260417T190406Z
UID:10000818-1776848400-1776853800@huerfano.us
SUMMARY:Huerfano Multi-Agency Coordination Meeting
DESCRIPTION:
URL:https://huerfano.us/event/huerfano-multi-agency-coordination-meeting/
LOCATION:Huerfano County Community Center\, 928 Russell Ave\, Walsenburg\, CO\, United States
CATEGORIES:Commissioners,Emergency Management
GEO:37.621348;-104.777722
X-APPLE-STRUCTURED-LOCATION;VALUE=URI;X-ADDRESS=Huerfano County Community Center 928 Russell Ave Walsenburg CO United States;X-APPLE-RADIUS=500;X-TITLE=928 Russell Ave:geo:-104.777722,37.621348
END:VEVENT
BEGIN:VEVENT
DTSTART;TZID=America/Denver:20260428T110000
DTEND;TZID=America/Denver:20260428T120000
DTSTAMP:20260419T202213
CREATED:20260219T150121Z
LAST-MODIFIED:20260419T174339Z
UID:10000763-1777374000-1777377600@huerfano.us
SUMMARY:Emergency Management Workshop
DESCRIPTION:Join with Google Meet: https://meet.google.com/pfy-merc-xoc\nOr dial: (US) +1 607-638-7282 PIN: 479281745#\nMore phone numbers: https://tel.meet/pfy-merc-xoc?pin=4300384121504&hs=7\nLearn more about Meet at: https://support.google.com/a/users/answer/9282720
URL:https://huerfano.us/event/emergency-management-workshop-7/
LOCATION:CO
CATEGORIES:Commissioners,Emergency Management
END:VEVENT
END:VCALENDAR