BEGIN:VCALENDAR
VERSION:2.0
PRODID:-//Huerfano County Government - ECPv6.13.1//NONSGML v1.0//EN
CALSCALE:GREGORIAN
METHOD:PUBLISH
X-ORIGINAL-URL:https://huerfano.us
X-WR-CALDESC:Events for Huerfano County Government
REFRESH-INTERVAL;VALUE=DURATION:PT1H
X-Robots-Tag:noindex
X-PUBLISHED-TTL:PT1H
BEGIN:VTIMEZONE
TZID:America/Denver
BEGIN:DAYLIGHT
TZOFFSETFROM:-0700
TZOFFSETTO:-0600
TZNAME:MDT
DTSTART:20250309T090000
END:DAYLIGHT
BEGIN:STANDARD
TZOFFSETFROM:-0600
TZOFFSETTO:-0700
TZNAME:MST
DTSTART:20251102T080000
END:STANDARD
BEGIN:DAYLIGHT
TZOFFSETFROM:-0700
TZOFFSETTO:-0600
TZNAME:MDT
DTSTART:20260308T090000
END:DAYLIGHT
BEGIN:STANDARD
TZOFFSETFROM:-0600
TZOFFSETTO:-0700
TZNAME:MST
DTSTART:20261101T080000
END:STANDARD
END:VTIMEZONE
BEGIN:VEVENT
DTSTART;TZID=America/Denver:20250602T100000
DTEND;TZID=America/Denver:20250602T140000
DTSTAMP:20260420T223846
CREATED:20250528T012344Z
LAST-MODIFIED:20250601T200237Z
UID:10000490-1748858400-1748872800@huerfano.us
SUMMARY:DMV2GO
DESCRIPTION:No Appointment Needed\, First Come First Serve
URL:https://huerfano.us/event/dmv2go/
LOCATION:Huerfano County Department of Human Services\, 121 W 6th St\, Walsenburg\, CO\, 81089\, United States
CATEGORIES:Human Services
ATTACH;FMTTYPE=image/jpeg:https://huerfano.us/wp-content/uploads/DMV-June.jpg
GEO:37.623286;-104.782074
X-APPLE-STRUCTURED-LOCATION;VALUE=URI;X-ADDRESS=Huerfano County Department of Human Services 121 W 6th St Walsenburg CO 81089 United States;X-APPLE-RADIUS=500;X-TITLE=121 W 6th St:geo:-104.782074,37.623286
END:VEVENT
BEGIN:VEVENT
DTSTART;TZID=America/Denver:20250605T103000
DTEND;TZID=America/Denver:20250605T123000
DTSTAMP:20260420T223846
CREATED:20250528T012655Z
LAST-MODIFIED:20250604T203152Z
UID:10000492-1749119400-1749126600@huerfano.us
SUMMARY:Care and Share Walsenburg
DESCRIPTION:
URL:https://huerfano.us/event/care-and-share-walsenburg/
LOCATION:Huerfano County Community Center\, 928 Russell Ave\, Walsenburg\, CO\, United States
CATEGORIES:Human Services
ATTACH;FMTTYPE=image/jpeg:https://huerfano.us/wp-content/uploads/June-CS-Walsenburg.jpg
GEO:37.621348;-104.777722
X-APPLE-STRUCTURED-LOCATION;VALUE=URI;X-ADDRESS=Huerfano County Community Center 928 Russell Ave Walsenburg CO United States;X-APPLE-RADIUS=500;X-TITLE=928 Russell Ave:geo:-104.777722,37.621348
END:VEVENT
BEGIN:VEVENT
DTSTART;TZID=America/Denver:20250605T110000
DTEND;TZID=America/Denver:20250605T140000
DTSTAMP:20260420T223846
CREATED:20250528T012914Z
LAST-MODIFIED:20250604T203152Z
UID:10000493-1749121200-1749132000@huerfano.us
SUMMARY:Care and Share Gardner
DESCRIPTION:
URL:https://huerfano.us/event/care-and-share-gardner/
LOCATION:Sacred Heart Catholic Church\, 25457 CO-69\, Gardner\, CO\, 81040\, United States
CATEGORIES:Human Services
ATTACH;FMTTYPE=image/jpeg:https://huerfano.us/wp-content/uploads/June-5th-GARDNER-cs.jpg
GEO:37.787772;-105.18487
X-APPLE-STRUCTURED-LOCATION;VALUE=URI;X-ADDRESS=Sacred Heart Catholic Church 25457 CO-69 Gardner CO 81040 United States;X-APPLE-RADIUS=500;X-TITLE=25457 CO-69:geo:-105.18487,37.787772
END:VEVENT
BEGIN:VEVENT
DTSTART;TZID=America/Denver:20250607T110000
DTEND;TZID=America/Denver:20250607T130000
DTSTAMP:20260420T223846
CREATED:20250528T013000Z
LAST-MODIFIED:20250606T203330Z
UID:10000494-1749294000-1749301200@huerfano.us
SUMMARY:Care and Share La Veta
DESCRIPTION:
URL:https://huerfano.us/event/care-and-share-la-veta/
LOCATION:Behind Town Hall in the Alley
CATEGORIES:Human Services
END:VEVENT
BEGIN:VEVENT
DTSTART;TZID=America/Denver:20250613T090000
DTEND;TZID=America/Denver:20250613T130000
DTSTAMP:20260420T223846
CREATED:20250606T223415Z
LAST-MODIFIED:20250612T213138Z
UID:10000502-1749805200-1749819600@huerfano.us
SUMMARY:Senior Resource Fair
DESCRIPTION:
URL:https://huerfano.us/event/senior-resource-fair/
LOCATION:211 E Elder St\, Walsenburg\, CO\, United States
CATEGORIES:Human Services
GEO:37.646467;-104.779815
END:VEVENT
BEGIN:VEVENT
DTSTART;TZID=America/Denver:20250619T110000
DTEND;TZID=America/Denver:20250619T140000
DTSTAMP:20260420T223846
CREATED:20250606T223441Z
LAST-MODIFIED:20250618T224606Z
UID:10000507-1750330800-1750341600@huerfano.us
SUMMARY:Care and Share Gardner
DESCRIPTION:
URL:https://huerfano.us/event/care-and-share-gardner-2/
LOCATION:Sacred Heart Catholic Church\, 25457 CO-69\, Gardner\, CO\, 81040\, United States
CATEGORIES:Human Services
GEO:37.787772;-105.18487
X-APPLE-STRUCTURED-LOCATION;VALUE=URI;X-ADDRESS=Sacred Heart Catholic Church 25457 CO-69 Gardner CO 81040 United States;X-APPLE-RADIUS=500;X-TITLE=25457 CO-69:geo:-105.18487,37.787772
END:VEVENT
BEGIN:VEVENT
DTSTART;TZID=America/Denver:20250703T103000
DTEND;TZID=America/Denver:20250703T123000
DTSTAMP:20260420T223846
CREATED:20250706T234756Z
LAST-MODIFIED:20250706T234756Z
UID:10000566-1751538600-1751545800@huerfano.us
SUMMARY:Care and Share Walsenburg
DESCRIPTION:
URL:https://huerfano.us/event/care-and-share-walsenburg-2/
LOCATION:Huerfano County Community Center\, 928 Russell Ave\, Walsenburg\, CO\, United States
CATEGORIES:Human Services
GEO:37.621348;-104.777722
X-APPLE-STRUCTURED-LOCATION;VALUE=URI;X-ADDRESS=Huerfano County Community Center 928 Russell Ave Walsenburg CO United States;X-APPLE-RADIUS=500;X-TITLE=928 Russell Ave:geo:-104.777722,37.621348
END:VEVENT
BEGIN:VEVENT
DTSTART;TZID=America/Denver:20250703T110000
DTEND;TZID=America/Denver:20250703T140000
DTSTAMP:20260420T223846
CREATED:20250706T234756Z
LAST-MODIFIED:20250706T234756Z
UID:10000567-1751540400-1751551200@huerfano.us
SUMMARY:Care and Share Gardner
DESCRIPTION:
URL:https://huerfano.us/event/care-and-share-gardner-3/
LOCATION:25457 CO-69\, Gardner\, CO\, United States
CATEGORIES:Human Services
GEO:37.787772;-105.18487
END:VEVENT
BEGIN:VEVENT
DTSTART;TZID=America/Denver:20250707T100000
DTEND;TZID=America/Denver:20250707T140000
DTSTAMP:20260420T223846
CREATED:20250706T234756Z
LAST-MODIFIED:20250707T141438Z
UID:10000568-1751882400-1751896800@huerfano.us
SUMMARY:DMV2GO
DESCRIPTION:
URL:https://huerfano.us/event/dmv2go-2/
LOCATION:Huerfano County Dept of Social Services\, 121 W 6th St\, Walsenburg\, CO\, United States
CATEGORIES:Human Services
GEO:37.623286;-104.782074
X-APPLE-STRUCTURED-LOCATION;VALUE=URI;X-ADDRESS=Huerfano County Dept of Social Services 121 W 6th St Walsenburg CO United States;X-APPLE-RADIUS=500;X-TITLE=121 W 6th St:geo:-104.782074,37.623286
END:VEVENT
BEGIN:VEVENT
DTSTART;TZID=America/Denver:20250709T120000
DTEND;TZID=America/Denver:20250709T133000
DTSTAMP:20260420T223846
CREATED:20250706T234756Z
LAST-MODIFIED:20250709T141814Z
UID:10000569-1752062400-1752067800@huerfano.us
SUMMARY:Commodities
DESCRIPTION:
URL:https://huerfano.us/event/commodities-2/
LOCATION:Huerfano County Community Center\, 928 Russell Ave\, Walsenburg\, CO\, United States
CATEGORIES:Human Services
GEO:37.621348;-104.777722
X-APPLE-STRUCTURED-LOCATION;VALUE=URI;X-ADDRESS=Huerfano County Community Center 928 Russell Ave Walsenburg CO United States;X-APPLE-RADIUS=500;X-TITLE=928 Russell Ave:geo:-104.777722,37.621348
END:VEVENT
BEGIN:VEVENT
DTSTART;TZID=America/Denver:20250712T110000
DTEND;TZID=America/Denver:20250712T130000
DTSTAMP:20260420T223846
CREATED:20250706T234756Z
LAST-MODIFIED:20250712T143046Z
UID:10000570-1752318000-1752325200@huerfano.us
SUMMARY:Care and Share La Veta
DESCRIPTION:
URL:https://huerfano.us/event/care-and-share-la-veta-2/
LOCATION:Behind Town Hall in the Alley
CATEGORIES:Human Services
END:VEVENT
BEGIN:VEVENT
DTSTART;TZID=America/Denver:20250804T100000
DTEND;TZID=America/Denver:20250804T140000
DTSTAMP:20260420T223846
CREATED:20250724T231103Z
LAST-MODIFIED:20250804T161359Z
UID:10000583-1754301600-1754316000@huerfano.us
SUMMARY:DMV2GO
DESCRIPTION:
URL:https://huerfano.us/event/dmv2go-3/
LOCATION:Huerfano County Department of Human Services\, 121 W 6th St\, Walsenburg\, CO\, 81089\, United States
CATEGORIES:Human Services
GEO:37.623286;-104.782074
X-APPLE-STRUCTURED-LOCATION;VALUE=URI;X-ADDRESS=Huerfano County Department of Human Services 121 W 6th St Walsenburg CO 81089 United States;X-APPLE-RADIUS=500;X-TITLE=121 W 6th St:geo:-104.782074,37.623286
END:VEVENT
BEGIN:VEVENT
DTSTART;TZID=America/Denver:20250807T103000
DTEND;TZID=America/Denver:20250807T123000
DTSTAMP:20260420T223846
CREATED:20250724T231132Z
LAST-MODIFIED:20250807T161937Z
UID:10000585-1754562600-1754569800@huerfano.us
SUMMARY:Care and Share Walsenburg
DESCRIPTION:
URL:https://huerfano.us/event/care-and-share-walsenburg-3/
LOCATION:Huerfano County Community Center\, 928 Russell Ave\, Walsenburg\, CO\, United States
CATEGORIES:Human Services
GEO:37.621348;-104.777722
X-APPLE-STRUCTURED-LOCATION;VALUE=URI;X-ADDRESS=Huerfano County Community Center 928 Russell Ave Walsenburg CO United States;X-APPLE-RADIUS=500;X-TITLE=928 Russell Ave:geo:-104.777722,37.621348
END:VEVENT
BEGIN:VEVENT
DTSTART;TZID=America/Denver:20250807T110000
DTEND;TZID=America/Denver:20250807T140000
DTSTAMP:20260420T223846
CREATED:20250724T231158Z
LAST-MODIFIED:20250807T161937Z
UID:10000584-1754564400-1754575200@huerfano.us
SUMMARY:Care and Share - Gardner
DESCRIPTION:
URL:https://huerfano.us/event/care-and-share-gardner-4/
LOCATION:Sacred Heart Catholic Church\, 25457 CO-69\, Gardner\, CO\, 81040\, United States
CATEGORIES:Human Services
GEO:37.787772;-105.18487
X-APPLE-STRUCTURED-LOCATION;VALUE=URI;X-ADDRESS=Sacred Heart Catholic Church 25457 CO-69 Gardner CO 81040 United States;X-APPLE-RADIUS=500;X-TITLE=25457 CO-69:geo:-105.18487,37.787772
END:VEVENT
BEGIN:VEVENT
DTSTART;TZID=America/Denver:20250809T100000
DTEND;TZID=America/Denver:20250809T113000
DTSTAMP:20260420T223846
CREATED:20250724T231223Z
LAST-MODIFIED:20250809T163131Z
UID:10000586-1754733600-1754739000@huerfano.us
SUMMARY:Care and Share - La Veta
DESCRIPTION:
URL:https://huerfano.us/event/care-and-share-la-veta-3/
LOCATION:Behind Town Hall in the Alley
CATEGORIES:Human Services
END:VEVENT
BEGIN:VEVENT
DTSTART;TZID=America/Denver:20250813T120000
DTEND;TZID=America/Denver:20250813T140000
DTSTAMP:20260420T223846
CREATED:20250724T230817Z
LAST-MODIFIED:20250813T164549Z
UID:10000587-1755086400-1755093600@huerfano.us
SUMMARY:Commodities - Walsenburg
DESCRIPTION:
URL:https://huerfano.us/event/commodities-walsenburg/
LOCATION:Huerfano County Community Center\, 928 Russell Ave\, Walsenburg\, CO\, United States
CATEGORIES:Human Services
GEO:37.621348;-104.777722
X-APPLE-STRUCTURED-LOCATION;VALUE=URI;X-ADDRESS=Huerfano County Community Center 928 Russell Ave Walsenburg CO United States;X-APPLE-RADIUS=500;X-TITLE=928 Russell Ave:geo:-104.777722,37.621348
END:VEVENT
BEGIN:VEVENT
DTSTART;TZID=America/Denver:20250821T110000
DTEND;TZID=America/Denver:20250821T140000
DTSTAMP:20260420T223846
CREATED:20250724T231244Z
LAST-MODIFIED:20250820T220555Z
UID:10000588-1755774000-1755784800@huerfano.us
SUMMARY:Care and Share - Gardner
DESCRIPTION:
URL:https://huerfano.us/event/care-and-share-gardner-5/
LOCATION:Sacred Heart Catholic Church\, 25457 CO-69\, Gardner\, CO\, 81040\, United States
CATEGORIES:Human Services
GEO:37.787772;-105.18487
X-APPLE-STRUCTURED-LOCATION;VALUE=URI;X-ADDRESS=Sacred Heart Catholic Church 25457 CO-69 Gardner CO 81040 United States;X-APPLE-RADIUS=500;X-TITLE=25457 CO-69:geo:-105.18487,37.787772
END:VEVENT
BEGIN:VEVENT
DTSTART;TZID=America/Denver:20250915T100000
DTEND;TZID=America/Denver:20250915T140000
DTSTAMP:20260420T223846
CREATED:20250820T141122Z
LAST-MODIFIED:20250914T235628Z
UID:10000621-1757930400-1757944800@huerfano.us
SUMMARY:DMV2Go
DESCRIPTION:
URL:https://huerfano.us/event/dmv2go-4/
LOCATION:121 W 6th St\, Walsenburg\, CO\, United States
CATEGORIES:Human Services
GEO:37.646467;-104.779815
END:VEVENT
BEGIN:VEVENT
DTSTART;TZID=America/Denver:20251002T103000
DTEND;TZID=America/Denver:20251002T113000
DTSTAMP:20260420T223846
CREATED:20251011T004052Z
LAST-MODIFIED:20251011T004052Z
UID:10000656-1759401000-1759404600@huerfano.us
SUMMARY:Care & Share Walsenburg
DESCRIPTION:
URL:https://huerfano.us/event/care-share-walsenburg/
LOCATION:928 Russell St\, Walsenburg\, CO\, United States
CATEGORIES:Human Services
GEO:37.646467;-104.779815
END:VEVENT
BEGIN:VEVENT
DTSTART;TZID=America/Denver:20251002T110000
DTEND;TZID=America/Denver:20251002T140000
DTSTAMP:20260420T223846
CREATED:20251011T004052Z
LAST-MODIFIED:20251011T004052Z
UID:10000657-1759402800-1759413600@huerfano.us
SUMMARY:Care & Share Gardner
DESCRIPTION:
URL:https://huerfano.us/event/care-share-gardner/
LOCATION:25457 CO-69\, Gardner\, CO\, United States
CATEGORIES:Human Services
GEO:37.787772;-105.18487
END:VEVENT
BEGIN:VEVENT
DTSTART;TZID=America/Denver:20251006T100000
DTEND;TZID=America/Denver:20251006T140000
DTSTAMP:20260420T223846
CREATED:20251011T004052Z
LAST-MODIFIED:20251011T004052Z
UID:10000658-1759744800-1759759200@huerfano.us
SUMMARY:DMV2Go
DESCRIPTION:
URL:https://huerfano.us/event/dmv2go-5/
LOCATION:121 W 6th St\, Walsenburg\, CO\, United States
CATEGORIES:Human Services
GEO:37.646467;-104.779815
END:VEVENT
BEGIN:VEVENT
DTSTART;TZID=America/Denver:20251011T100000
DTEND;TZID=America/Denver:20251011T110000
DTSTAMP:20260420T223846
CREATED:20251011T004052Z
LAST-MODIFIED:20251011T004052Z
UID:10000659-1760176800-1760180400@huerfano.us
SUMMARY:Care & Share La Veta
DESCRIPTION:
URL:https://huerfano.us/event/care-share-la-veta/
LOCATION:La Veta\, La Veta\, CO\, United States
CATEGORIES:Human Services
GEO:37.511672;-105.057545
END:VEVENT
BEGIN:VEVENT
DTSTART;TZID=America/Denver:20251015T113000
DTEND;TZID=America/Denver:20251015T130000
DTSTAMP:20260420T223846
CREATED:20251011T004052Z
LAST-MODIFIED:20251011T004052Z
UID:10000660-1760527800-1760533200@huerfano.us
SUMMARY:DHS Presents - Benefits in Action Financial Literacy Class
DESCRIPTION:
URL:https://huerfano.us/event/dhs-presents-benefits-in-action-financial-literacy-class/
LOCATION:615 Russell St\, Walsenburg\, CO\, United States
CATEGORIES:Human Services
GEO:37.646467;-104.779815
END:VEVENT
BEGIN:VEVENT
DTSTART;TZID=America/Denver:20251016T100000
DTEND;TZID=America/Denver:20251016T110000
DTSTAMP:20260420T223846
CREATED:20251011T004053Z
LAST-MODIFIED:20251011T004053Z
UID:10000661-1760608800-1760612400@huerfano.us
SUMMARY:Mobile Market - Gardner
DESCRIPTION:
URL:https://huerfano.us/event/mobile-market-gardner/
LOCATION:25457 CO-69\, Gardner\, CO\, United States
CATEGORIES:Human Services
GEO:37.787772;-105.18487
END:VEVENT
BEGIN:VEVENT
DTSTART;TZID=America/Denver:20251016T100000
DTEND;TZID=America/Denver:20251016T120000
DTSTAMP:20260420T223846
CREATED:20251011T004053Z
LAST-MODIFIED:20251011T004053Z
UID:10000662-1760608800-1760616000@huerfano.us
SUMMARY:Care and Share Gardner
DESCRIPTION:
URL:https://huerfano.us/event/care-and-share-gardner-6/
LOCATION:25457 CO-69\, Gardner\, CO\, United States
CATEGORIES:Human Services
GEO:37.787772;-105.18487
END:VEVENT
BEGIN:VEVENT
DTSTART;TZID=America/Denver:20260120T110000
DTEND;TZID=America/Denver:20260120T120000
DTSTAMP:20260420T223846
CREATED:20260109T163209Z
LAST-MODIFIED:20260120T140522Z
UID:10000712-1768906800-1768910400@huerfano.us
SUMMARY:Human Services Workshop
DESCRIPTION:Join with Google Meet: https://meet.google.com/pfy-merc-xoc\nOr dial: (US) +1 607-638-7282 PIN: 479281745#\nMore phone numbers: https://tel.meet/pfy-merc-xoc?pin=4300384121504&hs=7\nLearn more about Meet at: https://support.google.com/a/users/answer/9282720
URL:https://huerfano.us/event/human-services-workshop/
CATEGORIES:Commissioners,Human Services
END:VEVENT
BEGIN:VEVENT
DTSTART;TZID=America/Denver:20260217T110000
DTEND;TZID=America/Denver:20260217T120000
DTSTAMP:20260420T223846
CREATED:20260109T163209Z
LAST-MODIFIED:20260217T173754Z
UID:10000727-1771326000-1771329600@huerfano.us
SUMMARY:Human Services Workshop
DESCRIPTION:Join with Google Meet: https://meet.google.com/pfy-merc-xoc\nOr dial: (US) +1 607-638-7282 PIN: 479281745#\nMore phone numbers: https://tel.meet/pfy-merc-xoc?pin=4300384121504&hs=7\nLearn more about Meet at: https://support.google.com/a/users/answer/9282720
URL:https://huerfano.us/event/human-services-workshop-2/
CATEGORIES:Commissioners,Human Services
END:VEVENT
BEGIN:VEVENT
DTSTART;TZID=America/Denver:20260317T110000
DTEND;TZID=America/Denver:20260317T120000
DTSTAMP:20260420T223846
CREATED:20260109T163209Z
LAST-MODIFIED:20260316T203308Z
UID:10000740-1773745200-1773748800@huerfano.us
SUMMARY:Human Services Workshop
DESCRIPTION:Join with Google Meet: https://meet.google.com/pfy-merc-xoc\nOr dial: (US) +1 607-638-7282 PIN: 479281745#\nMore phone numbers: https://tel.meet/pfy-merc-xoc?pin=4300384121504&hs=7\nLearn more about Meet at: https://support.google.com/a/users/answer/9282720
URL:https://huerfano.us/event/human-services-workshop-3/
CATEGORIES:Commissioners,Human Services
END:VEVENT
BEGIN:VEVENT
DTSTART;TZID=America/Denver:20260421T110000
DTEND;TZID=America/Denver:20260421T120000
DTSTAMP:20260420T223846
CREATED:20260219T150313Z
LAST-MODIFIED:20260420T175938Z
UID:10000759-1776769200-1776772800@huerfano.us
SUMMARY:Human Services Workshop
DESCRIPTION:Join with Google Meet: https://meet.google.com/pfy-merc-xoc\nOr dial: (US) +1 607-638-7282 PIN: 479281745#\nMore phone numbers: https://tel.meet/pfy-merc-xoc?pin=4300384121504&hs=7\nLearn more about Meet at: https://support.google.com/a/users/answer/9282720
URL:https://huerfano.us/event/human-services-workshop-4/
CATEGORIES:Commissioners,Human Services
END:VEVENT
BEGIN:VEVENT
DTSTART;TZID=America/Denver:20260519T110000
DTEND;TZID=America/Denver:20260519T120000
DTSTAMP:20260420T223846
CREATED:20260219T150313Z
LAST-MODIFIED:20260420T180014Z
UID:10000778-1779188400-1779192000@huerfano.us
SUMMARY:Human Services Workshop
DESCRIPTION:Join with Google Meet: https://meet.google.com/pfy-merc-xoc\nOr dial: (US) +1 607-638-7282 PIN: 479281745#\nMore phone numbers: https://tel.meet/pfy-merc-xoc?pin=4300384121504&hs=7\nLearn more about Meet at: https://support.google.com/a/users/answer/9282720
URL:https://huerfano.us/event/human-services-workshop-5/
CATEGORIES:Commissioners,Human Services
END:VEVENT
END:VCALENDAR