BEGIN:VCALENDAR
VERSION:2.0
PRODID:-//Huerfano County Government - ECPv6.13.1//NONSGML v1.0//EN
CALSCALE:GREGORIAN
METHOD:PUBLISH
X-ORIGINAL-URL:https://huerfano.us
X-WR-CALDESC:Events for Huerfano County Government
REFRESH-INTERVAL;VALUE=DURATION:PT1H
X-Robots-Tag:noindex
X-PUBLISHED-TTL:PT1H
BEGIN:VTIMEZONE
TZID:America/Denver
BEGIN:DAYLIGHT
TZOFFSETFROM:-0700
TZOFFSETTO:-0600
TZNAME:MDT
DTSTART:20250309T090000
END:DAYLIGHT
BEGIN:STANDARD
TZOFFSETFROM:-0600
TZOFFSETTO:-0700
TZNAME:MST
DTSTART:20251102T080000
END:STANDARD
END:VTIMEZONE
BEGIN:VEVENT
DTSTART;TZID=America/Denver:20250804T100000
DTEND;TZID=America/Denver:20250804T140000
DTSTAMP:20260421T085849
CREATED:20250724T231103Z
LAST-MODIFIED:20250804T161359Z
UID:10000583-1754301600-1754316000@huerfano.us
SUMMARY:DMV2GO
DESCRIPTION:
URL:https://huerfano.us/event/dmv2go-3/
LOCATION:Huerfano County Department of Human Services\, 121 W 6th St\, Walsenburg\, CO\, 81089\, United States
CATEGORIES:Human Services
GEO:37.623286;-104.782074
X-APPLE-STRUCTURED-LOCATION;VALUE=URI;X-ADDRESS=Huerfano County Department of Human Services 121 W 6th St Walsenburg CO 81089 United States;X-APPLE-RADIUS=500;X-TITLE=121 W 6th St:geo:-104.782074,37.623286
END:VEVENT
BEGIN:VEVENT
DTSTART;TZID=America/Denver:20250807T103000
DTEND;TZID=America/Denver:20250807T123000
DTSTAMP:20260421T085849
CREATED:20250724T231132Z
LAST-MODIFIED:20250807T161937Z
UID:10000585-1754562600-1754569800@huerfano.us
SUMMARY:Care and Share Walsenburg
DESCRIPTION:
URL:https://huerfano.us/event/care-and-share-walsenburg-3/
LOCATION:Huerfano County Community Center\, 928 Russell Ave\, Walsenburg\, CO\, United States
CATEGORIES:Human Services
GEO:37.621348;-104.777722
X-APPLE-STRUCTURED-LOCATION;VALUE=URI;X-ADDRESS=Huerfano County Community Center 928 Russell Ave Walsenburg CO United States;X-APPLE-RADIUS=500;X-TITLE=928 Russell Ave:geo:-104.777722,37.621348
END:VEVENT
BEGIN:VEVENT
DTSTART;TZID=America/Denver:20250807T110000
DTEND;TZID=America/Denver:20250807T140000
DTSTAMP:20260421T085849
CREATED:20250724T231158Z
LAST-MODIFIED:20250807T161937Z
UID:10000584-1754564400-1754575200@huerfano.us
SUMMARY:Care and Share - Gardner
DESCRIPTION:
URL:https://huerfano.us/event/care-and-share-gardner-4/
LOCATION:Sacred Heart Catholic Church\, 25457 CO-69\, Gardner\, CO\, 81040\, United States
CATEGORIES:Human Services
GEO:37.787772;-105.18487
X-APPLE-STRUCTURED-LOCATION;VALUE=URI;X-ADDRESS=Sacred Heart Catholic Church 25457 CO-69 Gardner CO 81040 United States;X-APPLE-RADIUS=500;X-TITLE=25457 CO-69:geo:-105.18487,37.787772
END:VEVENT
BEGIN:VEVENT
DTSTART;TZID=America/Denver:20250809T100000
DTEND;TZID=America/Denver:20250809T113000
DTSTAMP:20260421T085849
CREATED:20250724T231223Z
LAST-MODIFIED:20250809T163131Z
UID:10000586-1754733600-1754739000@huerfano.us
SUMMARY:Care and Share - La Veta
DESCRIPTION:
URL:https://huerfano.us/event/care-and-share-la-veta-3/
LOCATION:Behind Town Hall in the Alley
CATEGORIES:Human Services
END:VEVENT
END:VCALENDAR